BEGIN:VCALENDAR
VERSION:2.0
PRODID:-//Squarespace Inc/Squarespace 6//v6//EN
BEGIN:VEVENT
UID:5c63603a6e9a7f56f6d94954@squarespace.com
DTSTAMP:20190213T001430Z
DTSTART:20190314T163000Z
DTEND:20190314T183000Z
SUMMARY:Sharing Spaces
GEO:-33.765012;150.990205
LOCATION:16 Arthur Street\, Baulkham Hills\, NSW\, 2153\, Australia
END:VEVENT
END:VCALENDAR
