BEGIN:VCALENDAR
VERSION:2.0
PRODID:-//Squarespace Inc/Squarespace 6//v6//EN
BEGIN:VEVENT
UID:5c53d99cc83025d06e6f5632@squarespace.com
DTSTAMP:20190201T053452Z
DTSTART:20190307T223000Z
DTEND:20190308T013000Z
SUMMARY:International Women's Day 2019: #BalanceforBetter
GEO:-33.812172;151.004917
LOCATION:PARKROYAL PARRAMATTA
END:VEVENT
END:VCALENDAR
